BEGIN:VCALENDAR
VERSION:2.0
PRODID:-//Squarespace Inc/Squarespace 6//v6//EN
BEGIN:VEVENT
UID:5f69b708138ba951e100f744@squarespace.com
DTSTAMP:20200922T085100Z
DTSTART:20200928T210000Z
DTEND:20200928T220000Z
SUMMARY:Clothes Swap
GEO:-41.303438;174.775002
LOCATION:MAWSA\, 63 Wallace Street\, Wellington\, 6021\, New Zealand
END:VEVENT
END:VCALENDAR
