BEGIN:VCALENDAR
VERSION:2.0
PRODID:-//Squarespace Inc/Squarespace 6//v6//EN
BEGIN:VEVENT
UID:5f69b7b8d3975c767b114a49@squarespace.com
DTSTAMP:20200922T083749Z
DTSTART:20200929T230000Z
DTEND:20200930T000000Z
SUMMARY:‘Make your own disinfectant workshop’ with MAWSA Makery
GEO:-41.303438;174.775002
LOCATION:MAWSA\, 63 Wallace Street\, Wellington\, 6021\, New Zealand
END:VEVENT
END:VCALENDAR
