BEGIN:VCALENDAR
VERSION:2.0
PRODID:-//Squarespace Inc/Squarespace 6//v6//EN
BEGIN:VEVENT
UID:5f69b832699bd14000ef7218@squarespace.com
DTSTAMP:20200922T084009Z
DTSTART:20200930T053000Z
DTEND:20200930T080000Z
SUMMARY:‘The True Cost’ Movie Screening with Fashion for Change
GEO:-41.303438;174.775002
LOCATION:MAWSA\, 63 Wallace Street\, Wellington\, 6021\, New Zealand
END:VEVENT
END:VCALENDAR
